BEGIN:VCALENDAR
VERSION:2.0
PRODID:-//Max-Planck-Realschule Wuppertal - ECPv6.15.20//NONSGML v1.0//EN
CALSCALE:GREGORIAN
METHOD:PUBLISH
X-ORIGINAL-URL:https://mpr-wuppertal.de
X-WR-CALDESC:Veranstaltungen für Max-Planck-Realschule Wuppertal
REFRESH-INTERVAL;VALUE=DURATION:PT1H
X-Robots-Tag:noindex
X-PUBLISHED-TTL:PT1H
BEGIN:VTIMEZONE
TZID:Europe/Berlin
BEGIN:DAYLIGHT
TZOFFSETFROM:+0100
TZOFFSETTO:+0200
TZNAME:CEST
DTSTART:20230326T010000
END:DAYLIGHT
BEGIN:STANDARD
TZOFFSETFROM:+0200
TZOFFSETTO:+0100
TZNAME:CET
DTSTART:20231029T010000
END:STANDARD
BEGIN:DAYLIGHT
TZOFFSETFROM:+0100
TZOFFSETTO:+0200
TZNAME:CEST
DTSTART:20240331T010000
END:DAYLIGHT
BEGIN:STANDARD
TZOFFSETFROM:+0200
TZOFFSETTO:+0100
TZNAME:CET
DTSTART:20241027T010000
END:STANDARD
BEGIN:DAYLIGHT
TZOFFSETFROM:+0100
TZOFFSETTO:+0200
TZNAME:CEST
DTSTART:20250330T010000
END:DAYLIGHT
BEGIN:STANDARD
TZOFFSETFROM:+0200
TZOFFSETTO:+0100
TZNAME:CET
DTSTART:20251026T010000
END:STANDARD
END:VTIMEZONE
BEGIN:VEVENT
DTSTART;VALUE=DATE:20240821
DTEND;VALUE=DATE:20240822
DTSTAMP:20260422T174101
CREATED:20230703T104043Z
LAST-MODIFIED:20240904T173604Z
UID:4301-1724198400-1724284799@mpr-wuppertal.de
SUMMARY:1. Schultag / Kl. 6-10 Unterrichtsbeginn ab 8:00 Uhr / Kl. 5 Unterrichtsbeginn ab 8:45 Uhr
DESCRIPTION:Kl. 6-10 starten ab 8:00 Uhr \nKl. 5 startet ab 8:45 Uhr
URL:https://mpr-wuppertal.de/event/1-schultag-kl-6-10-starten-ab-800-uhr-kl-5-startet-ab-845-uhr/
END:VEVENT
BEGIN:VEVENT
DTSTART;TZID=Europe/Berlin:20240821T080000
DTEND;TZID=Europe/Berlin:20240823T133000
DTSTAMP:20260422T174101
CREATED:20240904T185308Z
LAST-MODIFIED:20240904T185308Z
UID:4689-1724227200-1724419800@mpr-wuppertal.de
SUMMARY:Schülerausweise - Fotos erstellen Kl. 5\, 7\, 9 (Zeitfenster)
DESCRIPTION:Bitte auf WebUntis achten
URL:https://mpr-wuppertal.de/event/schuelerausweise-fotos-erstellen-kl-5-7-9-zeitfenster/
END:VEVENT
END:VCALENDAR