BEGIN:VCALENDAR
VERSION:2.0
PRODID:-//Max-Planck-Realschule Wuppertal - ECPv6.15.20//NONSGML v1.0//EN
CALSCALE:GREGORIAN
METHOD:PUBLISH
X-WR-CALNAME:Max-Planck-Realschule Wuppertal
X-ORIGINAL-URL:https://mpr-wuppertal.de
X-WR-CALDESC:Veranstaltungen für Max-Planck-Realschule Wuppertal
REFRESH-INTERVAL;VALUE=DURATION:PT1H
X-Robots-Tag:noindex
X-PUBLISHED-TTL:PT1H
BEGIN:VTIMEZONE
TZID:Europe/Berlin
BEGIN:DAYLIGHT
TZOFFSETFROM:+0100
TZOFFSETTO:+0200
TZNAME:CEST
DTSTART:20230326T010000
END:DAYLIGHT
BEGIN:STANDARD
TZOFFSETFROM:+0200
TZOFFSETTO:+0100
TZNAME:CET
DTSTART:20231029T010000
END:STANDARD
BEGIN:DAYLIGHT
TZOFFSETFROM:+0100
TZOFFSETTO:+0200
TZNAME:CEST
DTSTART:20240331T010000
END:DAYLIGHT
BEGIN:STANDARD
TZOFFSETFROM:+0200
TZOFFSETTO:+0100
TZNAME:CET
DTSTART:20241027T010000
END:STANDARD
BEGIN:DAYLIGHT
TZOFFSETFROM:+0100
TZOFFSETTO:+0200
TZNAME:CEST
DTSTART:20250330T010000
END:DAYLIGHT
BEGIN:STANDARD
TZOFFSETFROM:+0200
TZOFFSETTO:+0100
TZNAME:CET
DTSTART:20251026T010000
END:STANDARD
END:VTIMEZONE
BEGIN:VEVENT
DTSTART;VALUE=DATE:20241202
DTEND;VALUE=DATE:20241221
DTSTAMP:20260422T211554
CREATED:20240904T183237Z
LAST-MODIFIED:20240904T183237Z
UID:4638-1733097600-1734739199@mpr-wuppertal.de
SUMMARY:BK "Werther Brücke" Veranstaltung Kl. 10 (Zeitfenster)
DESCRIPTION:Einladung folgt
URL:https://mpr-wuppertal.de/event/bk-werther-bruecke-veranstaltung-kl-10-zeitfenster/
END:VEVENT
BEGIN:VEVENT
DTSTART;TZID=Europe/Berlin:20241204T080000
DTEND;TZID=Europe/Berlin:20241204T133000
DTSTAMP:20260422T211554
CREATED:20240904T183526Z
LAST-MODIFIED:20240904T183526Z
UID:4646-1733299200-1733319000@mpr-wuppertal.de
SUMMARY:Besuch Schulbibliothek "BiB&BoB" Kl. 5 + 6
DESCRIPTION:Bitte auf WebUntis achten
URL:https://mpr-wuppertal.de/event/besuch-schulbibliothek-bibbob-kl-5-6/
END:VEVENT
END:VCALENDAR