BEGIN:VCALENDAR
VERSION:2.0
PRODID:-//Max-Planck-Realschule Wuppertal - ECPv6.15.20//NONSGML v1.0//EN
CALSCALE:GREGORIAN
METHOD:PUBLISH
X-WR-CALNAME:Max-Planck-Realschule Wuppertal
X-ORIGINAL-URL:https://mpr-wuppertal.de
X-WR-CALDESC:Veranstaltungen für Max-Planck-Realschule Wuppertal
REFRESH-INTERVAL;VALUE=DURATION:PT1H
X-Robots-Tag:noindex
X-PUBLISHED-TTL:PT1H
BEGIN:VTIMEZONE
TZID:Europe/Berlin
BEGIN:DAYLIGHT
TZOFFSETFROM:+0100
TZOFFSETTO:+0200
TZNAME:CEST
DTSTART:20240331T010000
END:DAYLIGHT
BEGIN:STANDARD
TZOFFSETFROM:+0200
TZOFFSETTO:+0100
TZNAME:CET
DTSTART:20241027T010000
END:STANDARD
BEGIN:DAYLIGHT
TZOFFSETFROM:+0100
TZOFFSETTO:+0200
TZNAME:CEST
DTSTART:20250330T010000
END:DAYLIGHT
BEGIN:STANDARD
TZOFFSETFROM:+0200
TZOFFSETTO:+0100
TZNAME:CET
DTSTART:20251026T010000
END:STANDARD
BEGIN:DAYLIGHT
TZOFFSETFROM:+0100
TZOFFSETTO:+0200
TZNAME:CEST
DTSTART:20260329T010000
END:DAYLIGHT
BEGIN:STANDARD
TZOFFSETFROM:+0200
TZOFFSETTO:+0100
TZNAME:CET
DTSTART:20261025T010000
END:STANDARD
END:VTIMEZONE
BEGIN:VEVENT
DTSTART;VALUE=DATE:20250203
DTEND;VALUE=DATE:20250401
DTSTAMP:20260423T005534
CREATED:20240904T180922Z
LAST-MODIFIED:20240904T180922Z
UID:4622-1738540800-1743465599@mpr-wuppertal.de
SUMMARY:BIZ-Besuche Kl. 10 (Zeitfenster)
DESCRIPTION:Bitte auf WebUntis achten
URL:https://mpr-wuppertal.de/event/biz-besuche-kl-10-zeitfenster/
END:VEVENT
BEGIN:VEVENT
DTSTART;VALUE=DATE:20250225
DTEND;VALUE=DATE:20250321
DTSTAMP:20260423T005534
CREATED:20240904T181017Z
LAST-MODIFIED:20240904T181017Z
UID:4624-1740441600-1742515199@mpr-wuppertal.de
SUMMARY:Lernstandserhebung Kl. 8 (Zeitfenster)
DESCRIPTION:Bitte auf WebUntis achten
URL:https://mpr-wuppertal.de/event/lernstandserhebung-kl-8-zeitfenster/
END:VEVENT
END:VCALENDAR