BEGIN:VCALENDAR
VERSION:2.0
PRODID:-//Max-Planck-Realschule Wuppertal - ECPv6.15.20//NONSGML v1.0//EN
CALSCALE:GREGORIAN
METHOD:PUBLISH
X-ORIGINAL-URL:https://mpr-wuppertal.de
X-WR-CALDESC:Veranstaltungen für Max-Planck-Realschule Wuppertal
REFRESH-INTERVAL;VALUE=DURATION:PT1H
X-Robots-Tag:noindex
X-PUBLISHED-TTL:PT1H
BEGIN:VTIMEZONE
TZID:Europe/Berlin
BEGIN:DAYLIGHT
TZOFFSETFROM:+0100
TZOFFSETTO:+0200
TZNAME:CEST
DTSTART:20240331T010000
END:DAYLIGHT
BEGIN:STANDARD
TZOFFSETFROM:+0200
TZOFFSETTO:+0100
TZNAME:CET
DTSTART:20241027T010000
END:STANDARD
BEGIN:DAYLIGHT
TZOFFSETFROM:+0100
TZOFFSETTO:+0200
TZNAME:CEST
DTSTART:20250330T010000
END:DAYLIGHT
BEGIN:STANDARD
TZOFFSETFROM:+0200
TZOFFSETTO:+0100
TZNAME:CET
DTSTART:20251026T010000
END:STANDARD
BEGIN:DAYLIGHT
TZOFFSETFROM:+0100
TZOFFSETTO:+0200
TZNAME:CEST
DTSTART:20260329T010000
END:DAYLIGHT
BEGIN:STANDARD
TZOFFSETFROM:+0200
TZOFFSETTO:+0100
TZNAME:CET
DTSTART:20261025T010000
END:STANDARD
BEGIN:DAYLIGHT
TZOFFSETFROM:+0100
TZOFFSETTO:+0200
TZNAME:CEST
DTSTART:20270328T010000
END:DAYLIGHT
BEGIN:STANDARD
TZOFFSETFROM:+0200
TZOFFSETTO:+0100
TZNAME:CET
DTSTART:20271031T010000
END:STANDARD
END:VTIMEZONE
BEGIN:VEVENT
DTSTART;VALUE=DATE:20260328
DTEND;VALUE=DATE:20260413
DTSTAMP:20260425T134043
CREATED:20250708T081321Z
LAST-MODIFIED:20250708T081321Z
UID:4966-1774656000-1776038399@mpr-wuppertal.de
SUMMARY:Osterferien 2026
DESCRIPTION:
URL:https://mpr-wuppertal.de/event/osterferien-2026/
END:VEVENT
BEGIN:VEVENT
DTSTART;VALUE=DATE:20260216
DTEND;VALUE=DATE:20260217
DTSTAMP:20260425T134043
CREATED:20250708T081905Z
LAST-MODIFIED:20250708T081905Z
UID:4973-1771200000-1771286399@mpr-wuppertal.de
SUMMARY:Rosenmontag
DESCRIPTION:
URL:https://mpr-wuppertal.de/event/rosenmontag-2/
END:VEVENT
BEGIN:VEVENT
DTSTART;VALUE=DATE:20251220
DTEND;VALUE=DATE:20260107
DTSTAMP:20260425T134043
CREATED:20250708T081208Z
LAST-MODIFIED:20250708T081208Z
UID:4964-1766188800-1767743999@mpr-wuppertal.de
SUMMARY:Weihnachtsferien 2025/26
DESCRIPTION:
URL:https://mpr-wuppertal.de/event/weihnachtsferien-2025-26/
END:VEVENT
BEGIN:VEVENT
DTSTART;TZID=Europe/Berlin:20251129T090000
DTEND;TZID=Europe/Berlin:20251129T140000
DTSTAMP:20260425T134043
CREATED:20250923T112446Z
LAST-MODIFIED:20250923T112934Z
UID:5130-1764406800-1764424800@mpr-wuppertal.de
SUMMARY:Tag der offenen Tür
DESCRIPTION:
URL:https://mpr-wuppertal.de/event/tag-der-offenen-tuer-2/
END:VEVENT
BEGIN:VEVENT
DTSTART;TZID=Europe/Berlin:20251107T140000
DTEND;TZID=Europe/Berlin:20251107T190000
DTSTAMP:20260425T134043
CREATED:20250923T112313Z
LAST-MODIFIED:20250923T112838Z
UID:5128-1762524000-1762542000@mpr-wuppertal.de
SUMMARY:Elternsprechtag
DESCRIPTION:
URL:https://mpr-wuppertal.de/event/elternsprechtag/
END:VEVENT
BEGIN:VEVENT
DTSTART;TZID=Europe/Berlin:20251105T133000
DTEND;TZID=Europe/Berlin:20251105T160000
DTSTAMP:20260425T134043
CREATED:20250923T112114Z
LAST-MODIFIED:20250923T112114Z
UID:5126-1762349400-1762358400@mpr-wuppertal.de
SUMMARY:Würfelmeisterschaft
DESCRIPTION:
URL:https://mpr-wuppertal.de/event/wuerfelmeisterschaft-2/
END:VEVENT
BEGIN:VEVENT
DTSTART;TZID=Europe/Berlin:20251103T114500
DTEND;TZID=Europe/Berlin:20251103T132000
DTSTAMP:20260425T134043
CREATED:20250923T111746Z
LAST-MODIFIED:20250923T111746Z
UID:5123-1762170300-1762176000@mpr-wuppertal.de
SUMMARY:Schülersprechtag
DESCRIPTION:
URL:https://mpr-wuppertal.de/event/schuelersprechtag/
END:VEVENT
BEGIN:VEVENT
DTSTART;VALUE=DATE:20251101
DTEND;VALUE=DATE:20251102
DTSTAMP:20260425T134043
CREATED:20250708T081603Z
LAST-MODIFIED:20250708T081603Z
UID:4970-1761955200-1762041599@mpr-wuppertal.de
SUMMARY:Allerheiligen - Feiertag
DESCRIPTION:
URL:https://mpr-wuppertal.de/event/allerheiligen-feiertag/
END:VEVENT
BEGIN:VEVENT
DTSTART;VALUE=DATE:20251011
DTEND;VALUE=DATE:20251027
DTSTAMP:20260425T134043
CREATED:20250708T081016Z
LAST-MODIFIED:20250708T081016Z
UID:4962-1760140800-1761523199@mpr-wuppertal.de
SUMMARY:Herbstferien 2025
DESCRIPTION:
URL:https://mpr-wuppertal.de/event/herbstferien-2025/
END:VEVENT
BEGIN:VEVENT
DTSTART;VALUE=DATE:20251003
DTEND;VALUE=DATE:20251004
DTSTAMP:20260425T134043
CREATED:20250708T081513Z
LAST-MODIFIED:20250708T081513Z
UID:4968-1759449600-1759535999@mpr-wuppertal.de
SUMMARY:Tag der Deutschen Einheit - Feiertag
DESCRIPTION:
URL:https://mpr-wuppertal.de/event/tag-der-deutschen-einheit-feiertag/
END:VEVENT
BEGIN:VEVENT
DTSTART;TZID=Europe/Berlin:20251002T080000
DTEND;TZID=Europe/Berlin:20251002T150000
DTSTAMP:20260425T134043
CREATED:20250923T111255Z
LAST-MODIFIED:20250923T111255Z
UID:5121-1759392000-1759417200@mpr-wuppertal.de
SUMMARY:Schulbank trifft Werkbank
DESCRIPTION:
URL:https://mpr-wuppertal.de/event/schulbank-trifft-werkbank/
END:VEVENT
BEGIN:VEVENT
DTSTART;TZID=Europe/Berlin:20250827T080000
DTEND;TZID=Europe/Berlin:20250827T132000
DTSTAMP:20260425T134043
CREATED:20250708T062352Z
LAST-MODIFIED:20250708T062352Z
UID:4944-1756281600-1756300800@mpr-wuppertal.de
SUMMARY:1.Schultag 2025/26
DESCRIPTION:
URL:https://mpr-wuppertal.de/event/1-schultag-2025-26/
END:VEVENT
BEGIN:VEVENT
DTSTART;VALUE=DATE:20250822
DTEND;VALUE=DATE:20250823
DTSTAMP:20260425T134043
CREATED:20240904T190549Z
LAST-MODIFIED:20240904T190654Z
UID:4699-1755820800-1755907199@mpr-wuppertal.de
SUMMARY:Nachprüfung 24/25 mündlich
DESCRIPTION:Termine können über das Sekretariat erfragt werden
URL:https://mpr-wuppertal.de/event/nachpruefung-24-25-muendlich/
END:VEVENT
BEGIN:VEVENT
DTSTART;VALUE=DATE:20250821
DTEND;VALUE=DATE:20250822
DTSTAMP:20260425T134043
CREATED:20240904T190435Z
LAST-MODIFIED:20240904T190716Z
UID:4697-1755734400-1755820799@mpr-wuppertal.de
SUMMARY:Nachprüfung 24/25 schriftlich
DESCRIPTION:Wir informieren schriftlich über das genaue Zeitfenster
URL:https://mpr-wuppertal.de/event/nachpruefung-24-25-schriftlich/
END:VEVENT
BEGIN:VEVENT
DTSTART;VALUE=DATE:20250714
DTEND;VALUE=DATE:20250827
DTSTAMP:20260425T134043
CREATED:20210816T100752Z
LAST-MODIFIED:20240904T173904Z
UID:1963-1752451200-1756252799@mpr-wuppertal.de
SUMMARY:Sommerferien 2025
DESCRIPTION:
URL:https://mpr-wuppertal.de/event/sommerferien-2020/
END:VEVENT
BEGIN:VEVENT
DTSTART;TZID=Europe/Berlin:20250711T080000
DTEND;TZID=Europe/Berlin:20250711T104000
DTSTAMP:20260425T134043
CREATED:20210816T191509Z
LAST-MODIFIED:20240904T164331Z
UID:3572-1752220800-1752230400@mpr-wuppertal.de
SUMMARY:Zeugnisse 2Hj - Ausgabe in der 3. Stunde
DESCRIPTION:Unterrichtsende ab 10:40 Uhr
URL:https://mpr-wuppertal.de/event/zeugnisse-2hj/
END:VEVENT
BEGIN:VEVENT
DTSTART;VALUE=DATE:20250710
DTEND;VALUE=DATE:20250711
DTSTAMP:20260425T134043
CREATED:20240904T180239Z
LAST-MODIFIED:20240904T180239Z
UID:4612-1752105600-1752191999@mpr-wuppertal.de
SUMMARY:Kurzstunden
DESCRIPTION:Bitte auf WebUntis achten
URL:https://mpr-wuppertal.de/event/kurzstunden/
END:VEVENT
BEGIN:VEVENT
DTSTART;VALUE=DATE:20250703
DTEND;VALUE=DATE:20250704
DTSTAMP:20260425T134043
CREATED:20240904T180412Z
LAST-MODIFIED:20240904T180412Z
UID:4616-1751500800-1751587199@mpr-wuppertal.de
SUMMARY:Zeugniskonferenzen Kl. 5-6
DESCRIPTION:Bitte auf WebUntis achten
URL:https://mpr-wuppertal.de/event/zeugniskonferenzen-kl-5-6/
END:VEVENT
BEGIN:VEVENT
DTSTART;VALUE=DATE:20250701
DTEND;VALUE=DATE:20250702
DTSTAMP:20260425T134043
CREATED:20240904T180337Z
LAST-MODIFIED:20240904T180337Z
UID:4614-1751328000-1751414399@mpr-wuppertal.de
SUMMARY:Zeugniskonferenzen Kl. 7-9
DESCRIPTION:Bitte auf WebUntis achten
URL:https://mpr-wuppertal.de/event/zeugniskonferenzen-kl-7-9/
END:VEVENT
BEGIN:VEVENT
DTSTART;VALUE=DATE:20250627
DTEND;VALUE=DATE:20250628
DTSTAMP:20260425T134043
CREATED:20220928T212929Z
LAST-MODIFIED:20240904T165145Z
UID:4047-1750982400-1751068799@mpr-wuppertal.de
SUMMARY:Abschlussfeier Kl. 10
DESCRIPTION:genaue Uhrzeit bitte im Sekretariat erfragen
URL:https://mpr-wuppertal.de/event/abschlussfeier-kl-10/
END:VEVENT
BEGIN:VEVENT
DTSTART;VALUE=DATE:20250624
DTEND;VALUE=DATE:20250625
DTSTAMP:20260425T134043
CREATED:20240904T180511Z
LAST-MODIFIED:20240904T180511Z
UID:4618-1750723200-1750809599@mpr-wuppertal.de
SUMMARY:Zeugniskonferenz Kl. 10
DESCRIPTION:Bitte auf WebUntis achten
URL:https://mpr-wuppertal.de/event/zeugniskonferenz-kl-10/
END:VEVENT
BEGIN:VEVENT
DTSTART;TZID=Europe/Berlin:20250623T080000
DTEND;TZID=Europe/Berlin:20250623T120000
DTSTAMP:20260425T134043
CREATED:20210816T191247Z
LAST-MODIFIED:20240904T165248Z
UID:3568-1750665600-1750680000@mpr-wuppertal.de
SUMMARY:Zentraleprüfung ZP10 / mündliche Prüfung
DESCRIPTION:
URL:https://mpr-wuppertal.de/event/zentralepruefung-zp10-muendliche-pruefung/
END:VEVENT
BEGIN:VEVENT
DTSTART;VALUE=DATE:20250623
DTEND;VALUE=DATE:20250705
DTSTAMP:20260425T134043
CREATED:20220928T212706Z
LAST-MODIFIED:20240904T165547Z
UID:4045-1750636800-1751673599@mpr-wuppertal.de
SUMMARY:Bücherrückgabe-Wochen Kl. 5-10
DESCRIPTION:genaue Einteilung der Klassen folgt über iServ
URL:https://mpr-wuppertal.de/event/buecherrueckgabe-kl-5-10/
END:VEVENT
BEGIN:VEVENT
DTSTART;VALUE=DATE:20250623
DTEND;VALUE=DATE:20250624
DTSTAMP:20260425T134043
CREATED:20210816T191015Z
LAST-MODIFIED:20240904T165439Z
UID:3564-1750636800-1750723199@mpr-wuppertal.de
SUMMARY:Zentraleprüfung ZP10 / Notenbekanntgabe
DESCRIPTION:
URL:https://mpr-wuppertal.de/event/zentralepruefung-zp10-notenbekanntgabe/
END:VEVENT
BEGIN:VEVENT
DTSTART;VALUE=DATE:20250620
DTEND;VALUE=DATE:20250621
DTSTAMP:20260425T134043
CREATED:20230703T114145Z
LAST-MODIFIED:20240904T165747Z
UID:4336-1750377600-1750463999@mpr-wuppertal.de
SUMMARY:bewegl. Ferientag
DESCRIPTION:
URL:https://mpr-wuppertal.de/event/bewegl-ferientag-3/
END:VEVENT
BEGIN:VEVENT
DTSTART;VALUE=DATE:20250619
DTEND;VALUE=DATE:20250620
DTSTAMP:20260425T134043
CREATED:20220928T213044Z
LAST-MODIFIED:20240904T165823Z
UID:4049-1750291200-1750377599@mpr-wuppertal.de
SUMMARY:gesetzl. Feiertag / Fronleichnam
DESCRIPTION:
URL:https://mpr-wuppertal.de/event/gesetzlicher-feiertag-fronleichnam/
END:VEVENT
BEGIN:VEVENT
DTSTART;TZID=Europe/Berlin:20250617T080000
DTEND;TZID=Europe/Berlin:20250617T120000
DTSTAMP:20260425T134043
CREATED:20210816T190438Z
LAST-MODIFIED:20240904T165624Z
UID:3560-1750147200-1750161600@mpr-wuppertal.de
SUMMARY:Zentraleprüfung ZP10 "Mathematik" / Nachschreibtermin
DESCRIPTION:
URL:https://mpr-wuppertal.de/event/zentralepruefung-zp10-m-nachschreibtermin/
END:VEVENT
BEGIN:VEVENT
DTSTART;VALUE=DATE:20250616
DTEND;VALUE=DATE:20250628
DTSTAMP:20260425T134043
CREATED:20240904T180146Z
LAST-MODIFIED:20240904T180146Z
UID:4610-1750032000-1751068799@mpr-wuppertal.de
SUMMARY:(betriebliche) Betriebsfelderkundung Kl. 8
DESCRIPTION:
URL:https://mpr-wuppertal.de/event/betriebliche-betriebsfelderkundung-kl-8/
END:VEVENT
BEGIN:VEVENT
DTSTART;TZID=Europe/Berlin:20250613T080000
DTEND;TZID=Europe/Berlin:20250613T120000
DTSTAMP:20260425T134043
CREATED:20210816T190233Z
LAST-MODIFIED:20240904T165656Z
UID:3558-1749801600-1749816000@mpr-wuppertal.de
SUMMARY:Zentraleprüfung ZP10 "Englisch" / Nachschreibtermin
DESCRIPTION:
URL:https://mpr-wuppertal.de/event/zentralepruefung-zp10-e-nachschreibtermin/
END:VEVENT
BEGIN:VEVENT
DTSTART;TZID=Europe/Berlin:20250612T080000
DTEND;TZID=Europe/Berlin:20250612T123000
DTSTAMP:20260425T134043
CREATED:20210816T190118Z
LAST-MODIFIED:20240904T165901Z
UID:3556-1749715200-1749731400@mpr-wuppertal.de
SUMMARY:Zentraleprüfung ZP10 "Deutsch" / Nachschreibtermin
DESCRIPTION:
URL:https://mpr-wuppertal.de/event/zentralepruefung-zp10-d-nachschreibtermin/
END:VEVENT
END:VCALENDAR