BEGIN:VCALENDAR
VERSION:2.0
PRODID:-//Max-Planck-Realschule Wuppertal - ECPv6.15.20//NONSGML v1.0//EN
CALSCALE:GREGORIAN
METHOD:PUBLISH
X-WR-CALNAME:Max-Planck-Realschule Wuppertal
X-ORIGINAL-URL:https://mpr-wuppertal.de
X-WR-CALDESC:Veranstaltungen für Max-Planck-Realschule Wuppertal
REFRESH-INTERVAL;VALUE=DURATION:PT1H
X-Robots-Tag:noindex
X-PUBLISHED-TTL:PT1H
BEGIN:VTIMEZONE
TZID:Europe/Berlin
BEGIN:DAYLIGHT
TZOFFSETFROM:+0100
TZOFFSETTO:+0200
TZNAME:CEST
DTSTART:20250330T010000
END:DAYLIGHT
BEGIN:STANDARD
TZOFFSETFROM:+0200
TZOFFSETTO:+0100
TZNAME:CET
DTSTART:20251026T010000
END:STANDARD
BEGIN:DAYLIGHT
TZOFFSETFROM:+0100
TZOFFSETTO:+0200
TZNAME:CEST
DTSTART:20260329T010000
END:DAYLIGHT
BEGIN:STANDARD
TZOFFSETFROM:+0200
TZOFFSETTO:+0100
TZNAME:CET
DTSTART:20261025T010000
END:STANDARD
BEGIN:DAYLIGHT
TZOFFSETFROM:+0100
TZOFFSETTO:+0200
TZNAME:CEST
DTSTART:20270328T010000
END:DAYLIGHT
BEGIN:STANDARD
TZOFFSETFROM:+0200
TZOFFSETTO:+0100
TZNAME:CET
DTSTART:20271031T010000
END:STANDARD
END:VTIMEZONE
BEGIN:VEVENT
DTSTART;VALUE=DATE:20260604
DTEND;VALUE=DATE:20260605
DTSTAMP:20260425T134206
CREATED:20250708T082417Z
LAST-MODIFIED:20250708T082417Z
UID:4983-1780531200-1780617599@mpr-wuppertal.de
SUMMARY:Fronleichnam - Feiertag
DESCRIPTION:
URL:https://mpr-wuppertal.de/event/fronleichnam-feiertag/
END:VEVENT
BEGIN:VEVENT
DTSTART;VALUE=DATE:20260609
DTEND;VALUE=DATE:20260610
DTSTAMP:20260425T134206
CREATED:20250708T083644Z
LAST-MODIFIED:20250708T083644Z
UID:4997-1780963200-1781049599@mpr-wuppertal.de
SUMMARY:Nachschreibtermin ZP M
DESCRIPTION:
URL:https://mpr-wuppertal.de/event/nachschreibtermin-zp-m/
END:VEVENT
BEGIN:VEVENT
DTSTART;VALUE=DATE:20260616
DTEND;VALUE=DATE:20260617
DTSTAMP:20260425T134206
CREATED:20250708T083756Z
LAST-MODIFIED:20250708T083756Z
UID:4999-1781568000-1781654399@mpr-wuppertal.de
SUMMARY:Bekanntgabe der Vor- und Prüfungsnote 10er
DESCRIPTION:
URL:https://mpr-wuppertal.de/event/bekanntgabe-der-vor-und-pruefungsnote-10er/
END:VEVENT
BEGIN:VEVENT
DTSTART;VALUE=DATE:20260718
DTEND;VALUE=DATE:20260902
DTSTAMP:20260425T134206
CREATED:20250708T082624Z
LAST-MODIFIED:20250708T082624Z
UID:4985-1784332800-1788307199@mpr-wuppertal.de
SUMMARY:Sommerferien 2026
DESCRIPTION:
URL:https://mpr-wuppertal.de/event/sommerferien-2026/
END:VEVENT
END:VCALENDAR