BEGIN:VCALENDAR
VERSION:2.0
PRODID:-//Max-Planck-Realschule Wuppertal - ECPv6.15.20//NONSGML v1.0//EN
CALSCALE:GREGORIAN
METHOD:PUBLISH
X-WR-CALNAME:Max-Planck-Realschule Wuppertal
X-ORIGINAL-URL:https://mpr-wuppertal.de
X-WR-CALDESC:Veranstaltungen für Max-Planck-Realschule Wuppertal
REFRESH-INTERVAL;VALUE=DURATION:PT1H
X-Robots-Tag:noindex
X-PUBLISHED-TTL:PT1H
BEGIN:VTIMEZONE
TZID:Europe/Berlin
BEGIN:DAYLIGHT
TZOFFSETFROM:+0100
TZOFFSETTO:+0200
TZNAME:CEST
DTSTART:20230326T010000
END:DAYLIGHT
BEGIN:STANDARD
TZOFFSETFROM:+0200
TZOFFSETTO:+0100
TZNAME:CET
DTSTART:20231029T010000
END:STANDARD
BEGIN:DAYLIGHT
TZOFFSETFROM:+0100
TZOFFSETTO:+0200
TZNAME:CEST
DTSTART:20240331T010000
END:DAYLIGHT
BEGIN:STANDARD
TZOFFSETFROM:+0200
TZOFFSETTO:+0100
TZNAME:CET
DTSTART:20241027T010000
END:STANDARD
BEGIN:DAYLIGHT
TZOFFSETFROM:+0100
TZOFFSETTO:+0200
TZNAME:CEST
DTSTART:20250330T010000
END:DAYLIGHT
BEGIN:STANDARD
TZOFFSETFROM:+0200
TZOFFSETTO:+0100
TZNAME:CET
DTSTART:20251026T010000
END:STANDARD
END:VTIMEZONE
BEGIN:VEVENT
DTSTART;VALUE=DATE:20240930
DTEND;VALUE=DATE:20241012
DTSTAMP:20260422T173043
CREATED:20210816T171635Z
LAST-MODIFIED:20240904T172925Z
UID:3499-1727654400-1728691199@mpr-wuppertal.de
SUMMARY:Fachschaftskonferenz-Wochen
DESCRIPTION:genaue Uhrzeit\, sowie Raumnummern\, bitte aus der Einladung entnehmen.
URL:https://mpr-wuppertal.de/event/fachschaftskonferenzen/
END:VEVENT
BEGIN:VEVENT
DTSTART;VALUE=DATE:20241001
DTEND;VALUE=DATE:20241002
DTSTAMP:20260422T173043
CREATED:20240904T184143Z
LAST-MODIFIED:20240904T184143Z
UID:4662-1727740800-1727827199@mpr-wuppertal.de
SUMMARY:Berufsberatung Kl. 10
DESCRIPTION:Bitte auf WebUntis achten
URL:https://mpr-wuppertal.de/event/berufsberatung-kl-10-5/
END:VEVENT
BEGIN:VEVENT
DTSTART;TZID=Europe/Berlin:20241001T133000
DTEND;TZID=Europe/Berlin:20241001T153000
DTSTAMP:20260422T173043
CREATED:20230703T105902Z
LAST-MODIFIED:20240904T172709Z
UID:4311-1727789400-1727796600@mpr-wuppertal.de
SUMMARY:Grundschulcafé Kl. 5 / Treffen Grundschullehrkräfte mit Klassenleitungen
DESCRIPTION:genaue Uhrzeit bitte im Sekretariat erfragen \nVeranstaltung im BoB-Campus
URL:https://mpr-wuppertal.de/event/grundschulcafe-kl-5-treffen-grundschullehrkraefte-mit-klassenleitungen/
END:VEVENT
BEGIN:VEVENT
DTSTART;VALUE=DATE:20241007
DTEND;VALUE=DATE:20241012
DTSTAMP:20260422T173043
CREATED:20220928T201750Z
LAST-MODIFIED:20240904T175430Z
UID:3989-1728259200-1728691199@mpr-wuppertal.de
SUMMARY:Potenzialanalyse Kl. 8
DESCRIPTION:genaue Terminvergabe auf WebUntis
URL:https://mpr-wuppertal.de/event/potenzialanalyse-kl-8d/
END:VEVENT
BEGIN:VEVENT
DTSTART;VALUE=DATE:20241014
DTEND;VALUE=DATE:20241026
DTSTAMP:20260422T173043
CREATED:20240904T185740Z
LAST-MODIFIED:20240904T185740Z
UID:4693-1728864000-1729900799@mpr-wuppertal.de
SUMMARY:Herbstferien
DESCRIPTION:
URL:https://mpr-wuppertal.de/event/herbstferien-2/
END:VEVENT
BEGIN:VEVENT
DTSTART;TZID=Europe/Berlin:20241028T080000
DTEND;TZID=Europe/Berlin:20241028T132000
DTSTAMP:20260422T173043
CREATED:20220928T202320Z
LAST-MODIFIED:20240904T175251Z
UID:3993-1730102400-1730121600@mpr-wuppertal.de
SUMMARY:Potenzialanalyse Klassen 8 - Auswertungsgespräche
DESCRIPTION:
URL:https://mpr-wuppertal.de/event/potenzialanalyse-klassen-8c-d-auswertungsgespraeche/
END:VEVENT
BEGIN:VEVENT
DTSTART;VALUE=DATE:20241029
DTEND;VALUE=DATE:20241030
DTSTAMP:20260422T173043
CREATED:20240904T184103Z
LAST-MODIFIED:20240904T184103Z
UID:4660-1730160000-1730246399@mpr-wuppertal.de
SUMMARY:Berufsberatung Kl. 10
DESCRIPTION:Bitte auf WebUntis achten
URL:https://mpr-wuppertal.de/event/berufsberatung-kl-10-4/
END:VEVENT
END:VCALENDAR