BEGIN:VCALENDAR
VERSION:2.0
PRODID:-//Max-Planck-Realschule Wuppertal - ECPv6.15.20//NONSGML v1.0//EN
CALSCALE:GREGORIAN
METHOD:PUBLISH
X-ORIGINAL-URL:https://mpr-wuppertal.de
X-WR-CALDESC:Veranstaltungen für Max-Planck-Realschule Wuppertal
REFRESH-INTERVAL;VALUE=DURATION:PT1H
X-Robots-Tag:noindex
X-PUBLISHED-TTL:PT1H
BEGIN:VTIMEZONE
TZID:Europe/Berlin
BEGIN:DAYLIGHT
TZOFFSETFROM:+0100
TZOFFSETTO:+0200
TZNAME:CEST
DTSTART:20240331T010000
END:DAYLIGHT
BEGIN:STANDARD
TZOFFSETFROM:+0200
TZOFFSETTO:+0100
TZNAME:CET
DTSTART:20241027T010000
END:STANDARD
BEGIN:DAYLIGHT
TZOFFSETFROM:+0100
TZOFFSETTO:+0200
TZNAME:CEST
DTSTART:20250330T010000
END:DAYLIGHT
BEGIN:STANDARD
TZOFFSETFROM:+0200
TZOFFSETTO:+0100
TZNAME:CET
DTSTART:20251026T010000
END:STANDARD
BEGIN:DAYLIGHT
TZOFFSETFROM:+0100
TZOFFSETTO:+0200
TZNAME:CEST
DTSTART:20260329T010000
END:DAYLIGHT
BEGIN:STANDARD
TZOFFSETFROM:+0200
TZOFFSETTO:+0100
TZNAME:CET
DTSTART:20261025T010000
END:STANDARD
END:VTIMEZONE
BEGIN:VEVENT
DTSTART;TZID=Europe/Berlin:20251002T080000
DTEND;TZID=Europe/Berlin:20251002T150000
DTSTAMP:20260423T083735
CREATED:20250923T111255Z
LAST-MODIFIED:20250923T111255Z
UID:5121-1759392000-1759417200@mpr-wuppertal.de
SUMMARY:Schulbank trifft Werkbank
DESCRIPTION:
URL:https://mpr-wuppertal.de/event/schulbank-trifft-werkbank/
END:VEVENT
BEGIN:VEVENT
DTSTART;VALUE=DATE:20251003
DTEND;VALUE=DATE:20251004
DTSTAMP:20260423T083735
CREATED:20250708T081513Z
LAST-MODIFIED:20250708T081513Z
UID:4968-1759449600-1759535999@mpr-wuppertal.de
SUMMARY:Tag der Deutschen Einheit - Feiertag
DESCRIPTION:
URL:https://mpr-wuppertal.de/event/tag-der-deutschen-einheit-feiertag/
END:VEVENT
BEGIN:VEVENT
DTSTART;VALUE=DATE:20251011
DTEND;VALUE=DATE:20251027
DTSTAMP:20260423T083735
CREATED:20250708T081016Z
LAST-MODIFIED:20250708T081016Z
UID:4962-1760140800-1761523199@mpr-wuppertal.de
SUMMARY:Herbstferien 2025
DESCRIPTION:
URL:https://mpr-wuppertal.de/event/herbstferien-2025/
END:VEVENT
END:VCALENDAR