BEGIN:VCALENDAR
VERSION:2.0
PRODID:-//Max-Planck-Realschule Wuppertal - ECPv6.15.20//NONSGML v1.0//EN
CALSCALE:GREGORIAN
METHOD:PUBLISH
X-WR-CALNAME:Max-Planck-Realschule Wuppertal
X-ORIGINAL-URL:https://mpr-wuppertal.de
X-WR-CALDESC:Veranstaltungen für Max-Planck-Realschule Wuppertal
REFRESH-INTERVAL;VALUE=DURATION:PT1H
X-Robots-Tag:noindex
X-PUBLISHED-TTL:PT1H
BEGIN:VTIMEZONE
TZID:Europe/Berlin
BEGIN:DAYLIGHT
TZOFFSETFROM:+0100
TZOFFSETTO:+0200
TZNAME:CEST
DTSTART:20250330T010000
END:DAYLIGHT
BEGIN:STANDARD
TZOFFSETFROM:+0200
TZOFFSETTO:+0100
TZNAME:CET
DTSTART:20251026T010000
END:STANDARD
BEGIN:DAYLIGHT
TZOFFSETFROM:+0100
TZOFFSETTO:+0200
TZNAME:CEST
DTSTART:20260329T010000
END:DAYLIGHT
BEGIN:STANDARD
TZOFFSETFROM:+0200
TZOFFSETTO:+0100
TZNAME:CET
DTSTART:20261025T010000
END:STANDARD
BEGIN:DAYLIGHT
TZOFFSETFROM:+0100
TZOFFSETTO:+0200
TZNAME:CEST
DTSTART:20270328T010000
END:DAYLIGHT
BEGIN:STANDARD
TZOFFSETFROM:+0200
TZOFFSETTO:+0100
TZNAME:CET
DTSTART:20271031T010000
END:STANDARD
END:VTIMEZONE
BEGIN:VEVENT
DTSTART;VALUE=DATE:20260501
DTEND;VALUE=DATE:20260502
DTSTAMP:20260425T155354
CREATED:20250708T082003Z
LAST-MODIFIED:20250708T082003Z
UID:4975-1777593600-1777679999@mpr-wuppertal.de
SUMMARY:Tag der Arbeit - Feiertag
DESCRIPTION:
URL:https://mpr-wuppertal.de/event/tag-der-arbeit-feiertag/
END:VEVENT
BEGIN:VEVENT
DTSTART;VALUE=DATE:20260513
DTEND;VALUE=DATE:20260514
DTSTAMP:20260425T155354
CREATED:20250708T083203Z
LAST-MODIFIED:20250708T083203Z
UID:4987-1778630400-1778716799@mpr-wuppertal.de
SUMMARY:Zentrale Prüfung 10 Deutsch
DESCRIPTION:
URL:https://mpr-wuppertal.de/event/zentrale-pruefung-10-deutsch/
END:VEVENT
BEGIN:VEVENT
DTSTART;VALUE=DATE:20260514
DTEND;VALUE=DATE:20260515
DTSTAMP:20260425T155354
CREATED:20250708T082111Z
LAST-MODIFIED:20250708T082111Z
UID:4977-1778716800-1778803199@mpr-wuppertal.de
SUMMARY:Christi Himmelfahrt - Feiertag
DESCRIPTION:
URL:https://mpr-wuppertal.de/event/christi-himmelfahrt-feiertag/
END:VEVENT
BEGIN:VEVENT
DTSTART;VALUE=DATE:20260519
DTEND;VALUE=DATE:20260520
DTSTAMP:20260425T155354
CREATED:20250708T083241Z
LAST-MODIFIED:20250708T083241Z
UID:4989-1779148800-1779235199@mpr-wuppertal.de
SUMMARY:Zentrale Prüfung Englisch
DESCRIPTION:
URL:https://mpr-wuppertal.de/event/zentrale-pruefung-englisch/
END:VEVENT
BEGIN:VEVENT
DTSTART;VALUE=DATE:20260525
DTEND;VALUE=DATE:20260526
DTSTAMP:20260425T155354
CREATED:20250708T082201Z
LAST-MODIFIED:20250708T082201Z
UID:4979-1779667200-1779753599@mpr-wuppertal.de
SUMMARY:Pfingstmontag - Feiertag
DESCRIPTION:
URL:https://mpr-wuppertal.de/event/pfingstmontag-feiertag/
END:VEVENT
BEGIN:VEVENT
DTSTART;VALUE=DATE:20260526
DTEND;VALUE=DATE:20260527
DTSTAMP:20260425T155354
CREATED:20250708T082307Z
LAST-MODIFIED:20250708T082307Z
UID:4981-1779753600-1779839999@mpr-wuppertal.de
SUMMARY:Pfingstferien
DESCRIPTION:
URL:https://mpr-wuppertal.de/event/pfingstferien-2/
END:VEVENT
BEGIN:VEVENT
DTSTART;VALUE=DATE:20260528
DTEND;VALUE=DATE:20260529
DTSTAMP:20260425T155354
CREATED:20250708T083341Z
LAST-MODIFIED:20250708T083341Z
UID:4991-1779926400-1780012799@mpr-wuppertal.de
SUMMARY:Zentrale Prüfung Mathematik
DESCRIPTION:
URL:https://mpr-wuppertal.de/event/zentrale-pruefung-mathematik/
END:VEVENT
END:VCALENDAR