BEGIN:VCALENDAR
VERSION:2.0
PRODID:-//Max-Planck-Realschule Wuppertal - ECPv6.15.20//NONSGML v1.0//EN
CALSCALE:GREGORIAN
METHOD:PUBLISH
X-WR-CALNAME:Max-Planck-Realschule Wuppertal
X-ORIGINAL-URL:https://mpr-wuppertal.de
X-WR-CALDESC:Veranstaltungen für Max-Planck-Realschule Wuppertal
REFRESH-INTERVAL;VALUE=DURATION:PT1H
X-Robots-Tag:noindex
X-PUBLISHED-TTL:PT1H
BEGIN:VTIMEZONE
TZID:Europe/Berlin
BEGIN:DAYLIGHT
TZOFFSETFROM:+0100
TZOFFSETTO:+0200
TZNAME:CEST
DTSTART:20230326T010000
END:DAYLIGHT
BEGIN:STANDARD
TZOFFSETFROM:+0200
TZOFFSETTO:+0100
TZNAME:CET
DTSTART:20231029T010000
END:STANDARD
BEGIN:DAYLIGHT
TZOFFSETFROM:+0100
TZOFFSETTO:+0200
TZNAME:CEST
DTSTART:20240331T010000
END:DAYLIGHT
BEGIN:STANDARD
TZOFFSETFROM:+0200
TZOFFSETTO:+0100
TZNAME:CET
DTSTART:20241027T010000
END:STANDARD
BEGIN:DAYLIGHT
TZOFFSETFROM:+0100
TZOFFSETTO:+0200
TZNAME:CEST
DTSTART:20250330T010000
END:DAYLIGHT
BEGIN:STANDARD
TZOFFSETFROM:+0200
TZOFFSETTO:+0100
TZNAME:CET
DTSTART:20251026T010000
END:STANDARD
END:VTIMEZONE
BEGIN:VEVENT
DTSTART;VALUE=DATE:20240902
DTEND;VALUE=DATE:20240907
DTSTAMP:20260420T040429
CREATED:20220928T210537Z
LAST-MODIFIED:20240904T173202Z
UID:4027-1725235200-1725667199@mpr-wuppertal.de
SUMMARY:Klassenfahrt 10A
DESCRIPTION:
URL:https://mpr-wuppertal.de/event/klassenfahrt-7a-b-c-d-e-8a-d/
END:VEVENT
BEGIN:VEVENT
DTSTART;VALUE=DATE:20240909
DTEND;VALUE=DATE:20240914
DTSTAMP:20260420T040429
CREATED:20220928T205950Z
LAST-MODIFIED:20240904T174437Z
UID:4021-1725840000-1726271999@mpr-wuppertal.de
SUMMARY:Klassenfahrt 10B + D
DESCRIPTION:
URL:https://mpr-wuppertal.de/event/klassenfahrt-9e-c/
END:VEVENT
BEGIN:VEVENT
DTSTART;TZID=Europe/Berlin:20240925T183000
DTEND;TZID=Europe/Berlin:20240925T203000
DTSTAMP:20260420T040429
CREATED:20210816T111153Z
LAST-MODIFIED:20240904T173033Z
UID:2989-1727289000-1727296200@mpr-wuppertal.de
SUMMARY:Schulkonferenz 1Hj
DESCRIPTION:genau Uhrzeit\, sowie Raumnummer\, aus der Einladung entnehmen
URL:https://mpr-wuppertal.de/event/schulkonferenz-2/
END:VEVENT
BEGIN:VEVENT
DTSTART;TZID=Europe/Berlin:20240926T080000
DTEND;TZID=Europe/Berlin:20240926T133000
DTSTAMP:20260420T040429
CREATED:20220928T201020Z
LAST-MODIFIED:20240904T172817Z
UID:3980-1727337600-1727357400@mpr-wuppertal.de
SUMMARY:"Schulbank trifft Werkbank" für Kl. 9
DESCRIPTION:
URL:https://mpr-wuppertal.de/event/werkbank-trifft-schulbank-kl-10/
END:VEVENT
BEGIN:VEVENT
DTSTART;VALUE=DATE:20240930
DTEND;VALUE=DATE:20241012
DTSTAMP:20260420T040429
CREATED:20210816T171635Z
LAST-MODIFIED:20240904T172925Z
UID:3499-1727654400-1728691199@mpr-wuppertal.de
SUMMARY:Fachschaftskonferenz-Wochen
DESCRIPTION:genaue Uhrzeit\, sowie Raumnummern\, bitte aus der Einladung entnehmen.
URL:https://mpr-wuppertal.de/event/fachschaftskonferenzen/
END:VEVENT
END:VCALENDAR