BEGIN:VCALENDAR
VERSION:2.0
PRODID:-//Max-Planck-Realschule Wuppertal - ECPv6.15.20//NONSGML v1.0//EN
CALSCALE:GREGORIAN
METHOD:PUBLISH
X-ORIGINAL-URL:https://mpr-wuppertal.de
X-WR-CALDESC:Veranstaltungen für Max-Planck-Realschule Wuppertal
REFRESH-INTERVAL;VALUE=DURATION:PT1H
X-Robots-Tag:noindex
X-PUBLISHED-TTL:PT1H
BEGIN:VTIMEZONE
TZID:Europe/Berlin
BEGIN:DAYLIGHT
TZOFFSETFROM:+0100
TZOFFSETTO:+0200
TZNAME:CEST
DTSTART:20230326T010000
END:DAYLIGHT
BEGIN:STANDARD
TZOFFSETFROM:+0200
TZOFFSETTO:+0100
TZNAME:CET
DTSTART:20231029T010000
END:STANDARD
BEGIN:DAYLIGHT
TZOFFSETFROM:+0100
TZOFFSETTO:+0200
TZNAME:CEST
DTSTART:20240331T010000
END:DAYLIGHT
BEGIN:STANDARD
TZOFFSETFROM:+0200
TZOFFSETTO:+0100
TZNAME:CET
DTSTART:20241027T010000
END:STANDARD
BEGIN:DAYLIGHT
TZOFFSETFROM:+0100
TZOFFSETTO:+0200
TZNAME:CEST
DTSTART:20250330T010000
END:DAYLIGHT
BEGIN:STANDARD
TZOFFSETFROM:+0200
TZOFFSETTO:+0100
TZNAME:CET
DTSTART:20251026T010000
END:STANDARD
END:VTIMEZONE
BEGIN:VEVENT
DTSTART;TZID=Europe/Berlin:20241104T114500
DTEND;TZID=Europe/Berlin:20241104T132000
DTSTAMP:20260420T015455
CREATED:20210816T111502Z
LAST-MODIFIED:20240904T172504Z
UID:2997-1730720700-1730726400@mpr-wuppertal.de
SUMMARY:Schülersprechtag 1Hj
DESCRIPTION:
URL:https://mpr-wuppertal.de/event/schuelersprechtag-2/
END:VEVENT
BEGIN:VEVENT
DTSTART;TZID=Europe/Berlin:20241108T153000
DTEND;TZID=Europe/Berlin:20241108T190000
DTSTAMP:20260420T015455
CREATED:20200818T111531Z
LAST-MODIFIED:20240904T172343Z
UID:2999-1731079800-1731092400@mpr-wuppertal.de
SUMMARY:Elternsprechtag 1Hj
DESCRIPTION:
URL:https://mpr-wuppertal.de/event/elternsprechtag-3/
END:VEVENT
BEGIN:VEVENT
DTSTART;VALUE=DATE:20241120
DTEND;VALUE=DATE:20241130
DTSTAMP:20260420T015455
CREATED:20220928T200750Z
LAST-MODIFIED:20240904T175734Z
UID:3978-1732060800-1732924799@mpr-wuppertal.de
SUMMARY:Abflug in Ausbildung Kl. 10
DESCRIPTION:Zeitfenster
URL:https://mpr-wuppertal.de/event/abflug-in-ausbildung-kl-10/
END:VEVENT
BEGIN:VEVENT
DTSTART;TZID=Europe/Berlin:20241125T190000
DTEND;TZID=Europe/Berlin:20241125T200000
DTSTAMP:20260420T015455
CREATED:20210816T111628Z
LAST-MODIFIED:20240904T172237Z
UID:3001-1732561200-1732564800@mpr-wuppertal.de
SUMMARY:Elterninfoabend Grundschul-Eltern Kl. 4
DESCRIPTION:Anmeldung über Email möglich
URL:https://mpr-wuppertal.de/event/elterninfoabend-grundschulen/
END:VEVENT
BEGIN:VEVENT
DTSTART;TZID=Europe/Berlin:20241130T100000
DTEND;TZID=Europe/Berlin:20241130T130000
DTSTAMP:20260420T015455
CREATED:20210816T111710Z
LAST-MODIFIED:20240904T172020Z
UID:3003-1732960800-1732971600@mpr-wuppertal.de
SUMMARY:Tag der offenen Tür
DESCRIPTION:
URL:https://mpr-wuppertal.de/event/tag-der-offenen-tuer/
END:VEVENT
END:VCALENDAR