BEGIN:VCALENDAR
VERSION:2.0
PRODID:-//Max-Planck-Realschule Wuppertal - ECPv6.15.20//NONSGML v1.0//EN
CALSCALE:GREGORIAN
METHOD:PUBLISH
X-WR-CALNAME:Max-Planck-Realschule Wuppertal
X-ORIGINAL-URL:https://mpr-wuppertal.de
X-WR-CALDESC:Veranstaltungen für Max-Planck-Realschule Wuppertal
REFRESH-INTERVAL;VALUE=DURATION:PT1H
X-Robots-Tag:noindex
X-PUBLISHED-TTL:PT1H
BEGIN:VTIMEZONE
TZID:Europe/Berlin
BEGIN:DAYLIGHT
TZOFFSETFROM:+0100
TZOFFSETTO:+0200
TZNAME:CEST
DTSTART:20240331T010000
END:DAYLIGHT
BEGIN:STANDARD
TZOFFSETFROM:+0200
TZOFFSETTO:+0100
TZNAME:CET
DTSTART:20241027T010000
END:STANDARD
BEGIN:DAYLIGHT
TZOFFSETFROM:+0100
TZOFFSETTO:+0200
TZNAME:CEST
DTSTART:20250330T010000
END:DAYLIGHT
BEGIN:STANDARD
TZOFFSETFROM:+0200
TZOFFSETTO:+0100
TZNAME:CET
DTSTART:20251026T010000
END:STANDARD
BEGIN:DAYLIGHT
TZOFFSETFROM:+0100
TZOFFSETTO:+0200
TZNAME:CEST
DTSTART:20260329T010000
END:DAYLIGHT
BEGIN:STANDARD
TZOFFSETFROM:+0200
TZOFFSETTO:+0100
TZNAME:CET
DTSTART:20261025T010000
END:STANDARD
END:VTIMEZONE
BEGIN:VEVENT
DTSTART;VALUE=DATE:20250303
DTEND;VALUE=DATE:20250304
DTSTAMP:20260419T204827
CREATED:20210816T092147Z
LAST-MODIFIED:20240904T171554Z
UID:1935-1740960000-1741046399@mpr-wuppertal.de
SUMMARY:bewegl. Ferientag / Rosenmontag
DESCRIPTION:
URL:https://mpr-wuppertal.de/event/rosenmontag/
END:VEVENT
BEGIN:VEVENT
DTSTART;VALUE=DATE:20250304
DTEND;VALUE=DATE:20250305
DTSTAMP:20260419T204827
CREATED:20210816T175537Z
LAST-MODIFIED:20240904T171629Z
UID:3521-1741046400-1741132799@mpr-wuppertal.de
SUMMARY:bewegl. Ferientag
DESCRIPTION:
URL:https://mpr-wuppertal.de/event/bewegl-ferientag/
END:VEVENT
END:VCALENDAR