BEGIN:VCALENDAR
VERSION:2.0
PRODID:-//Max-Planck-Realschule Wuppertal - ECPv6.15.20//NONSGML v1.0//EN
CALSCALE:GREGORIAN
METHOD:PUBLISH
X-ORIGINAL-URL:https://mpr-wuppertal.de
X-WR-CALDESC:Veranstaltungen für Max-Planck-Realschule Wuppertal
REFRESH-INTERVAL;VALUE=DURATION:PT1H
X-Robots-Tag:noindex
X-PUBLISHED-TTL:PT1H
BEGIN:VTIMEZONE
TZID:Europe/Berlin
BEGIN:DAYLIGHT
TZOFFSETFROM:+0100
TZOFFSETTO:+0200
TZNAME:CEST
DTSTART:20240331T010000
END:DAYLIGHT
BEGIN:STANDARD
TZOFFSETFROM:+0200
TZOFFSETTO:+0100
TZNAME:CET
DTSTART:20241027T010000
END:STANDARD
BEGIN:DAYLIGHT
TZOFFSETFROM:+0100
TZOFFSETTO:+0200
TZNAME:CEST
DTSTART:20250330T010000
END:DAYLIGHT
BEGIN:STANDARD
TZOFFSETFROM:+0200
TZOFFSETTO:+0100
TZNAME:CET
DTSTART:20251026T010000
END:STANDARD
BEGIN:DAYLIGHT
TZOFFSETFROM:+0100
TZOFFSETTO:+0200
TZNAME:CEST
DTSTART:20260329T010000
END:DAYLIGHT
BEGIN:STANDARD
TZOFFSETFROM:+0200
TZOFFSETTO:+0100
TZNAME:CET
DTSTART:20261025T010000
END:STANDARD
END:VTIMEZONE
BEGIN:VEVENT
DTSTART;VALUE=DATE:20250428
DTEND;VALUE=DATE:20250517
DTSTAMP:20260419T183317
CREATED:20210816T185208Z
LAST-MODIFIED:20240904T171442Z
UID:3542-1745798400-1747439999@mpr-wuppertal.de
SUMMARY:Praktikums-Wochen Kl. 9
DESCRIPTION:
URL:https://mpr-wuppertal.de/event/praktikums-wochen-klassen-9/
END:VEVENT
BEGIN:VEVENT
DTSTART;VALUE=DATE:20250501
DTEND;VALUE=DATE:20250502
DTSTAMP:20260419T183317
CREATED:20220928T213934Z
LAST-MODIFIED:20240904T170718Z
UID:4060-1746057600-1746143999@mpr-wuppertal.de
SUMMARY:gesetzl. Feiertag / Tag der Arbeit
DESCRIPTION:
URL:https://mpr-wuppertal.de/event/gesetzlicher-feiertag-tag-der-arbeit/
END:VEVENT
BEGIN:VEVENT
DTSTART;VALUE=DATE:20250502
DTEND;VALUE=DATE:20250529
DTSTAMP:20260419T183317
CREATED:20220928T210409Z
LAST-MODIFIED:20240904T174303Z
UID:4025-1746144000-1748476799@mpr-wuppertal.de
SUMMARY:(trägergestützte) Betriebsfelderkundung Kl. 8
DESCRIPTION:
URL:https://mpr-wuppertal.de/event/traegergestuetzte-betriebsfelderkundung-kl-8/
END:VEVENT
BEGIN:VEVENT
DTSTART;VALUE=DATE:20250506
DTEND;VALUE=DATE:20250507
DTSTAMP:20260419T183317
CREATED:20220928T210823Z
LAST-MODIFIED:20240904T171110Z
UID:4029-1746489600-1746575999@mpr-wuppertal.de
SUMMARY:Versendung "Blauer Brief" Kl. 6-9
DESCRIPTION:
URL:https://mpr-wuppertal.de/event/blauer-brief-kl-7-10/
END:VEVENT
BEGIN:VEVENT
DTSTART;VALUE=DATE:20250512
DTEND;VALUE=DATE:20250517
DTSTAMP:20260419T183317
CREATED:20220928T205355Z
LAST-MODIFIED:20240904T175013Z
UID:4014-1747008000-1747439999@mpr-wuppertal.de
SUMMARY:Klassenfahrt 8B + C
DESCRIPTION:
URL:https://mpr-wuppertal.de/event/klassenfahrt-6a-b-c-d/
END:VEVENT
BEGIN:VEVENT
DTSTART;VALUE=DATE:20250520
DTEND;VALUE=DATE:20250521
DTSTAMP:20260419T183317
CREATED:20220928T211023Z
LAST-MODIFIED:20240904T170512Z
UID:4031-1747699200-1747785599@mpr-wuppertal.de
SUMMARY:Entscheidungs-/Übergangskonferenz Kl. 6
DESCRIPTION:
URL:https://mpr-wuppertal.de/event/entscheidungs-uebergangskonferenz-kl-6/
END:VEVENT
BEGIN:VEVENT
DTSTART;TZID=Europe/Berlin:20250527T083000
DTEND;TZID=Europe/Berlin:20250527T120000
DTSTAMP:20260419T183317
CREATED:20210816T185751Z
LAST-MODIFIED:20240904T170307Z
UID:3550-1748334600-1748347200@mpr-wuppertal.de
SUMMARY:Zentraleprüfung ZP10 "Deutsch"
DESCRIPTION:
URL:https://mpr-wuppertal.de/event/zentralepruefung-zp10-d/
END:VEVENT
BEGIN:VEVENT
DTSTART;VALUE=DATE:20250529
DTEND;VALUE=DATE:20250530
DTSTAMP:20260419T183317
CREATED:20210816T184456Z
LAST-MODIFIED:20240904T170421Z
UID:3532-1748476800-1748563199@mpr-wuppertal.de
SUMMARY:gesetzl. Feiertag / Christi Himmelfahrt
DESCRIPTION:
URL:https://mpr-wuppertal.de/event/gesetzlicher-feiertag/
END:VEVENT
BEGIN:VEVENT
DTSTART;VALUE=DATE:20250530
DTEND;VALUE=DATE:20250531
DTSTAMP:20260419T183317
CREATED:20220928T202730Z
LAST-MODIFIED:20240904T170349Z
UID:3997-1748563200-1748649599@mpr-wuppertal.de
SUMMARY:bewegl. Ferientag
DESCRIPTION:
URL:https://mpr-wuppertal.de/event/bewegl-ferientag-2/
END:VEVENT
END:VCALENDAR