BEGIN:VCALENDAR
VERSION:2.0
PRODID:-//Max-Planck-Realschule Wuppertal - ECPv6.15.20//NONSGML v1.0//EN
CALSCALE:GREGORIAN
METHOD:PUBLISH
X-ORIGINAL-URL:https://mpr-wuppertal.de
X-WR-CALDESC:Veranstaltungen für Max-Planck-Realschule Wuppertal
REFRESH-INTERVAL;VALUE=DURATION:PT1H
X-Robots-Tag:noindex
X-PUBLISHED-TTL:PT1H
BEGIN:VTIMEZONE
TZID:Europe/Berlin
BEGIN:DAYLIGHT
TZOFFSETFROM:+0100
TZOFFSETTO:+0200
TZNAME:CEST
DTSTART:20240331T010000
END:DAYLIGHT
BEGIN:STANDARD
TZOFFSETFROM:+0200
TZOFFSETTO:+0100
TZNAME:CET
DTSTART:20241027T010000
END:STANDARD
BEGIN:DAYLIGHT
TZOFFSETFROM:+0100
TZOFFSETTO:+0200
TZNAME:CEST
DTSTART:20250330T010000
END:DAYLIGHT
BEGIN:STANDARD
TZOFFSETFROM:+0200
TZOFFSETTO:+0100
TZNAME:CET
DTSTART:20251026T010000
END:STANDARD
BEGIN:DAYLIGHT
TZOFFSETFROM:+0100
TZOFFSETTO:+0200
TZNAME:CEST
DTSTART:20260329T010000
END:DAYLIGHT
BEGIN:STANDARD
TZOFFSETFROM:+0200
TZOFFSETTO:+0100
TZNAME:CET
DTSTART:20261025T010000
END:STANDARD
END:VTIMEZONE
BEGIN:VEVENT
DTSTART;TZID=Europe/Berlin:20250603T083000
DTEND;TZID=Europe/Berlin:20250603T120000
DTSTAMP:20260419T171802
CREATED:20210816T185905Z
LAST-MODIFIED:20240904T170056Z
UID:3552-1748939400-1748952000@mpr-wuppertal.de
SUMMARY:Zentraleprüfung ZP10 "Englisch"
DESCRIPTION:
URL:https://mpr-wuppertal.de/event/zentralepruefung-zp10-e/
END:VEVENT
BEGIN:VEVENT
DTSTART;TZID=Europe/Berlin:20250605T083000
DTEND;TZID=Europe/Berlin:20250605T120000
DTSTAMP:20260419T171802
CREATED:20210816T190022Z
LAST-MODIFIED:20240904T165935Z
UID:3554-1749112200-1749124800@mpr-wuppertal.de
SUMMARY:Zentraleprüfung ZP10 "Mathematik"
DESCRIPTION:
URL:https://mpr-wuppertal.de/event/zentralepruefung-zp10-m/
END:VEVENT
BEGIN:VEVENT
DTSTART;VALUE=DATE:20250609
DTEND;VALUE=DATE:20250611
DTSTAMP:20260419T171802
CREATED:20210816T100206Z
LAST-MODIFIED:20240904T170025Z
UID:1952-1749427200-1749599999@mpr-wuppertal.de
SUMMARY:Pfingstferien
DESCRIPTION:
URL:https://mpr-wuppertal.de/event/pfingstferien/
END:VEVENT
BEGIN:VEVENT
DTSTART;TZID=Europe/Berlin:20250612T080000
DTEND;TZID=Europe/Berlin:20250612T123000
DTSTAMP:20260419T171802
CREATED:20210816T190118Z
LAST-MODIFIED:20240904T165901Z
UID:3556-1749715200-1749731400@mpr-wuppertal.de
SUMMARY:Zentraleprüfung ZP10 "Deutsch" / Nachschreibtermin
DESCRIPTION:
URL:https://mpr-wuppertal.de/event/zentralepruefung-zp10-d-nachschreibtermin/
END:VEVENT
BEGIN:VEVENT
DTSTART;TZID=Europe/Berlin:20250613T080000
DTEND;TZID=Europe/Berlin:20250613T120000
DTSTAMP:20260419T171802
CREATED:20210816T190233Z
LAST-MODIFIED:20240904T165656Z
UID:3558-1749801600-1749816000@mpr-wuppertal.de
SUMMARY:Zentraleprüfung ZP10 "Englisch" / Nachschreibtermin
DESCRIPTION:
URL:https://mpr-wuppertal.de/event/zentralepruefung-zp10-e-nachschreibtermin/
END:VEVENT
BEGIN:VEVENT
DTSTART;TZID=Europe/Berlin:20250617T080000
DTEND;TZID=Europe/Berlin:20250617T120000
DTSTAMP:20260419T171802
CREATED:20210816T190438Z
LAST-MODIFIED:20240904T165624Z
UID:3560-1750147200-1750161600@mpr-wuppertal.de
SUMMARY:Zentraleprüfung ZP10 "Mathematik" / Nachschreibtermin
DESCRIPTION:
URL:https://mpr-wuppertal.de/event/zentralepruefung-zp10-m-nachschreibtermin/
END:VEVENT
BEGIN:VEVENT
DTSTART;VALUE=DATE:20250619
DTEND;VALUE=DATE:20250620
DTSTAMP:20260419T171802
CREATED:20220928T213044Z
LAST-MODIFIED:20240904T165823Z
UID:4049-1750291200-1750377599@mpr-wuppertal.de
SUMMARY:gesetzl. Feiertag / Fronleichnam
DESCRIPTION:
URL:https://mpr-wuppertal.de/event/gesetzlicher-feiertag-fronleichnam/
END:VEVENT
BEGIN:VEVENT
DTSTART;VALUE=DATE:20250623
DTEND;VALUE=DATE:20250624
DTSTAMP:20260419T171802
CREATED:20210816T191015Z
LAST-MODIFIED:20240904T165439Z
UID:3564-1750636800-1750723199@mpr-wuppertal.de
SUMMARY:Zentraleprüfung ZP10 / Notenbekanntgabe
DESCRIPTION:
URL:https://mpr-wuppertal.de/event/zentralepruefung-zp10-notenbekanntgabe/
END:VEVENT
BEGIN:VEVENT
DTSTART;VALUE=DATE:20250623
DTEND;VALUE=DATE:20250705
DTSTAMP:20260419T171802
CREATED:20220928T212706Z
LAST-MODIFIED:20240904T165547Z
UID:4045-1750636800-1751673599@mpr-wuppertal.de
SUMMARY:Bücherrückgabe-Wochen Kl. 5-10
DESCRIPTION:genaue Einteilung der Klassen folgt über iServ
URL:https://mpr-wuppertal.de/event/buecherrueckgabe-kl-5-10/
END:VEVENT
BEGIN:VEVENT
DTSTART;TZID=Europe/Berlin:20250623T080000
DTEND;TZID=Europe/Berlin:20250623T120000
DTSTAMP:20260419T171802
CREATED:20210816T191247Z
LAST-MODIFIED:20240904T165248Z
UID:3568-1750665600-1750680000@mpr-wuppertal.de
SUMMARY:Zentraleprüfung ZP10 / mündliche Prüfung
DESCRIPTION:
URL:https://mpr-wuppertal.de/event/zentralepruefung-zp10-muendliche-pruefung/
END:VEVENT
BEGIN:VEVENT
DTSTART;VALUE=DATE:20250627
DTEND;VALUE=DATE:20250628
DTSTAMP:20260419T171802
CREATED:20220928T212929Z
LAST-MODIFIED:20240904T165145Z
UID:4047-1750982400-1751068799@mpr-wuppertal.de
SUMMARY:Abschlussfeier Kl. 10
DESCRIPTION:genaue Uhrzeit bitte im Sekretariat erfragen
URL:https://mpr-wuppertal.de/event/abschlussfeier-kl-10/
END:VEVENT
END:VCALENDAR